BEGIN:VCALENDAR
VERSION:2.0
PRODID:-//Morsø Erhvervsråd - ECPv6.15.14//NONSGML v1.0//EN
CALSCALE:GREGORIAN
METHOD:PUBLISH
X-WR-CALNAME:Morsø Erhvervsråd
X-ORIGINAL-URL:https://mer.dk
X-WR-CALDESC:Begivenheder for Morsø Erhvervsråd
REFRESH-INTERVAL;VALUE=DURATION:PT1H
X-Robots-Tag:noindex
X-PUBLISHED-TTL:PT1H
BEGIN:VTIMEZONE
TZID:Europe/Copenhagen
BEGIN:DAYLIGHT
TZOFFSETFROM:+0100
TZOFFSETTO:+0200
TZNAME:CEST
DTSTART:20240331T010000
END:DAYLIGHT
BEGIN:STANDARD
TZOFFSETFROM:+0200
TZOFFSETTO:+0100
TZNAME:CET
DTSTART:20241027T010000
END:STANDARD
BEGIN:DAYLIGHT
TZOFFSETFROM:+0100
TZOFFSETTO:+0200
TZNAME:CEST
DTSTART:20250330T010000
END:DAYLIGHT
BEGIN:STANDARD
TZOFFSETFROM:+0200
TZOFFSETTO:+0100
TZNAME:CET
DTSTART:20251026T010000
END:STANDARD
BEGIN:DAYLIGHT
TZOFFSETFROM:+0100
TZOFFSETTO:+0200
TZNAME:CEST
DTSTART:20260329T010000
END:DAYLIGHT
BEGIN:STANDARD
TZOFFSETFROM:+0200
TZOFFSETTO:+0100
TZNAME:CET
DTSTART:20261025T010000
END:STANDARD
END:VTIMEZONE
BEGIN:VEVENT
DTSTART;TZID=Europe/Copenhagen:20250428T080000
DTEND;TZID=Europe/Copenhagen:20250428T093000
DTSTAMP:20260423T063559
CREATED:20241028T103026Z
LAST-MODIFIED:20250107T085758Z
UID:10000184-1745827200-1745832600@mer.dk
SUMMARY:Business Breakfast med Morsø Erhvervsråd hos Kunststof-Kemi A/S
DESCRIPTION:Kom med på VirksomhedsVandring med Morsø Erhvervsråd. Et nyt koncept vi søsatte i 2024\, som skal understøtte vores strategi og fokus på Morsø Erhvervsråd som et stærkt erhvervsfællesskab på Mors. Kært barn har mange navne\, så hvis du kender åbent hus\, business breakfast\, morgenbriefing eller lignende\, så taler vi ca. samme sprog. \n  \nVi vil gerne være med til at vise vores medlemsvirksomheder frem som en form for ”markvandring” eller åbent hus\, hvor vi øger kendskabet til øens virksomheder\, får en kop kaffe\, en rundvisning\, et indblik i virksomheden og en god snak med hinanden i “marken”. \n  \nDenne gang besøger vi Kunststof-Kemi A/S i Nykøbing Mors\, hvor vi vil få en rundvisning samt en fortælling om virksomheden. \n  \nOm Kunststof-Kemi A/S: \nKunststof-Kemi producerer farve- og additivkoncentrater til den termoplastforarbejdende industri. Deres produktportefølge omfatter Single Pigment Dispersions\, SPD’er – såkaldte Ultrabatch\, skræddersyede farvemasterbatch samt additivkoncentrater. \nKunststof-Kemi’s produkter anvendes i en lang række applikationer indenfor den termoplastforarbejdende industri af både Co-producenter til masterbatch-fremstilling og slutkunder til produktion af diverse emner. Det kan f.eks. være emballage som poser\, dunke og flasker\, kunstgræs\, legetøj\, hygiejneprodukter\, byggeri f.eks. vinduesprofiler\, gulvslanger\, tagrender\, eller kabelbånd mm. \n  \nSå snør vandrestøvlerne og tag med Morsø Erhvervsråd på VirksomhedsVandring hos Kunststof-Kemi. Vi glæder os.
URL:https://mer.dk/event/virksomhedsvandring-med-morsoe-erhvervsraad-hos-kunststof-kemi-a-s/
LOCATION:Kunststof-Kemi\, Ringvejen 70\, Nykøbing Mors\, 7900\, Danmark
CATEGORIES:Arrangementer
ATTACH;FMTTYPE=image/png:https://mer.dk/wp-content/uploads/2024/10/Business-Breakfast.png
ORGANIZER;CN="Mors%C3%B8 Erhvervsr%C3%A5d":MAILTO:post@mer.dk
END:VEVENT
END:VCALENDAR