BEGIN:VCALENDAR
VERSION:2.0
PRODID:-//Morsø Erhvervsråd - ECPv6.15.14//NONSGML v1.0//EN
CALSCALE:GREGORIAN
METHOD:PUBLISH
X-WR-CALNAME:Morsø Erhvervsråd
X-ORIGINAL-URL:https://mer.dk
X-WR-CALDESC:Begivenheder for Morsø Erhvervsråd
REFRESH-INTERVAL;VALUE=DURATION:PT1H
X-Robots-Tag:noindex
X-PUBLISHED-TTL:PT1H
BEGIN:VTIMEZONE
TZID:Europe/Copenhagen
BEGIN:DAYLIGHT
TZOFFSETFROM:+0100
TZOFFSETTO:+0200
TZNAME:CEST
DTSTART:20210328T010000
END:DAYLIGHT
BEGIN:STANDARD
TZOFFSETFROM:+0200
TZOFFSETTO:+0100
TZNAME:CET
DTSTART:20211031T010000
END:STANDARD
BEGIN:DAYLIGHT
TZOFFSETFROM:+0100
TZOFFSETTO:+0200
TZNAME:CEST
DTSTART:20220327T010000
END:DAYLIGHT
BEGIN:STANDARD
TZOFFSETFROM:+0200
TZOFFSETTO:+0100
TZNAME:CET
DTSTART:20221030T010000
END:STANDARD
BEGIN:DAYLIGHT
TZOFFSETFROM:+0100
TZOFFSETTO:+0200
TZNAME:CEST
DTSTART:20230326T010000
END:DAYLIGHT
BEGIN:STANDARD
TZOFFSETFROM:+0200
TZOFFSETTO:+0100
TZNAME:CET
DTSTART:20231029T010000
END:STANDARD
BEGIN:DAYLIGHT
TZOFFSETFROM:+0100
TZOFFSETTO:+0200
TZNAME:CEST
DTSTART:20240331T010000
END:DAYLIGHT
BEGIN:STANDARD
TZOFFSETFROM:+0200
TZOFFSETTO:+0100
TZNAME:CET
DTSTART:20241027T010000
END:STANDARD
BEGIN:DAYLIGHT
TZOFFSETFROM:+0100
TZOFFSETTO:+0200
TZNAME:CEST
DTSTART:20250330T010000
END:DAYLIGHT
BEGIN:STANDARD
TZOFFSETFROM:+0200
TZOFFSETTO:+0100
TZNAME:CET
DTSTART:20251026T010000
END:STANDARD
END:VTIMEZONE
BEGIN:VEVENT
DTSTART;TZID=Europe/Copenhagen:20240312T170000
DTEND;TZID=Europe/Copenhagen:20240312T210000
DTSTAMP:20260421T045021
CREATED:20231012T110422Z
LAST-MODIFIED:20240206T125638Z
UID:10000102-1710262800-1710277200@mer.dk
SUMMARY:Ordinær generalforsamling hos Morsø Erhvervsråd
DESCRIPTION:Bestyrelsen og de ansatte ved Morsø Erhvervsråd\, inviterer medlemmerne til ordinær generalforsamling. \nIgen i år har vi valgt at begynde aftenen med et indlæg om et aktuelt tema for erhvervslivet. Temaet i år er kunstig intelligens\, og hvordan virksomheder kan integrere det i forretningen. Vi har inviteret en ekspert fra AI Denmark programmet og den lokale virksomhed SKOV A/S til at komme og præsentere deres perspektiv på temaet. \n  \nProgram \n\nVelkomst\nIndlæg om kunstig intelligens\n\nDaniel Turi Hedelund\, AI Denmark programmet\nLeo Østergaard\, adm. direktør SKOV A/S\n\n\nMiddag og netværk\nOrdinær generalforsamling – Tage Odgaard Nielsen\, bestyrelsesformand\, Morsø Erhvervsråd\n\nValg af dirigent\nFormanden fremlægger årsberetning 2023\nFremlæggelse og godkendelse af regnskab\nFremlæggelse af budget og kontingent\nBehandling af indkommende forslag\nValg af bestyrelsesmedlemmer og suppleanter\nValg af revisor\nEventuelt\n\n\nOverrækkelse af Erhvervsrådets priser\n\nDen Gyldne Musling\nDen Gyldne Østers\n\n\nTak for i aften\n\n  \nForslag\, kandidatur og priser \nMedlemsforslag der ønskes behandlet på generalforsamlingen\, skal fremsendes skriftligt senest den 26. februar 2024 på mail: post@mer.dk \nØnsker du at tilkendegive dit kandidatur eller indstille en kandidat på valg til bestyrelsen\, kan forslagene indsendes på mail post@mer.dk – det er muligt at opstille som kandidat på selve generalforsamlingen. \nHar du en kandidat\, som du ønsker at indstille til en af Erhvervsrådets 2 priser\, så send dit forslag senest den 14. februar 2024 på mail post@mer.dk \nDEN GYLDNE MUSLING – IVÆRKSÆTTERPRISEN\nPrisen gives til en iværksætter\, som har været på en usædvanlig rejse\, har opnået succes og som er en god ambassadør for Mors. \nDEN GYLDNE ØSTERS – INITIATIVPRISEN\nPrisen gives til en virksomhed\, som har været på en usædvanlig rejse\, har opnået succes og som er en god ambassadør for Mors samtidig med at virksomheden har ydet en særlig indsats for erhvervslivet på Mors. \n  \nTilmeldingsfrist mandag den 4. marts \nFor at opnå stemmeret på generalforsamlingen\, kræves et indbetalt kontingent for medlemskab 2024 – senest den 8. marts 2024. \nAf hensyn til middagen er tilmelding til generalforsamlingen nødvendigt – seneste mandag den 4. marts 2024 kl. 12.00.
URL:https://mer.dk/event/ordinaer-generalforsamling-hos-morsoe-erhvervsraad-2/
LOCATION:Morsø Ungdomsgaard\, Spurvevej 2\, Nykøbing Mors\, 7900
CATEGORIES:Arrangementer
ATTACH;FMTTYPE=image/jpeg:https://mer.dk/wp-content/uploads/2023/03/Generalforsamling-2023.jpg
ORGANIZER;CN="Mors%C3%B8 Erhvervsr%C3%A5d":MAILTO:post@mer.dk
END:VEVENT
BEGIN:VEVENT
DTSTART;TZID=Europe/Copenhagen:20230314T170000
DTEND;TZID=Europe/Copenhagen:20230314T210000
DTSTAMP:20260421T045021
CREATED:20230208T204439Z
LAST-MODIFIED:20230301T203349Z
UID:10000054-1678813200-1678827600@mer.dk
SUMMARY:Ordinær generalforsamling hos Morsø Erhvervsråd
DESCRIPTION:Invitation \nBestyrelsen og de ansatte hos Morsø Erhvervsråd\, inviterer medlemmerne til Ordinær generalforsamling. \nI år har vi valgt at begynde aftenen med indlæg om et aktuelt tema for erhvervslivet. Et tema der vil være med til at understøtte rammen\, for virksomhedernes sociale ansvarlighed og nye krav indenfor den bæredygtige dagsorden. \nVi håber også at I vil være med til at byde velkommen til erhvervsrådet nye chef Susanne Toftegaard Hansen. \nSusanne udtaler: \n\nSå er jeg tiltrådt hos Morsø Erhvervsråd\, hvor jeg har fået en fantastisk modtagelse. Opgaven er nu at opnå indsigt\, blive oplyst og samtidig er jeg meget optaget af at få skabt relationer til erhvervslivet og de tætte samarbejdspartnere. Og dermed blive en integreret del af Morsøs erhvervsfællesskab – det håber jeg I vil hjælpe mig med.\n\nJeg ser derfor meget frem til at møde jer til årets generalforsamling. \nProgram \nVelkommen – Susanne Toftegaard Hansen\, Erhvervschef Morsø Erhvervsråd \nIndlæg \nDet kan gøres bedre! \n\nRespekt for mennesker\, tillid og troværdighed er grundværdier\, der beskriver virksomhedens DNA – Torben Larsen\, CEO Give Steel\n\nGROW er for virksomheder\, der tager socialt ansvar \n\nNyt landsdækkende initiativ måler socialt ansvar\, og dokumenterer det med Den Sociale Bæredygtighedsberegner – Benny Christensen\, Projektleder GROW\n\nMiddag og netværk \nOrdinær generalforsamling – Tage Odgaard Nielsen\, bestyrelsesformand Morsø Erhvervsråd \n\nValg af dirigent\nFormanden fremlægger årsberetning 2022\nFremlæggelse og godkendelse af regnskab\nFremlæggelse af budget og kontingent\nBehandling af indkommende forslag\nValg af bestyrelsesmedlemmer og suppleanter\nValg af revisor\nEventuelt\n\nOverrækkelse af Erhvervsrådets priser \n\nDen Gyldne Musling\nDen Gyldne Østers\n\nTak for i aften \n————————— \nForslag og kandidatur \nMedlemsforslag der ønskes behandlet på generalforsamlingen\, skal fremsendes skriftligt senest den 28. februar\, på mail post@mer.dk \nØnsker du at tilkendegive dit kandidatur eller indstille en kandidat på valg til bestyrelsen\, kan forslagene indsendes på mail post@mer.dk – det er muligt at opstille som kandidat på selve generalforsamlingen. \nTilmeldingsfrist 9. marts \nFor at opnå stemmeret på generalforsamlingen\, kræves et indbetalt kontingent for medlemskab 2023 – senest d. 9. marts. \nAf hensyn til middagen er tilmelding til generalforsamlingen nødvendig senest d. 9. marts.
URL:https://mer.dk/event/ordinaer-generalforsamling-hos-morsoe-erhvervsraad/
LOCATION:Morsø Ungdomsgaard\, Spurvevej 2\, Nykøbing Mors\, 7900
CATEGORIES:Arrangementer
ATTACH;FMTTYPE=image/jpeg:https://mer.dk/wp-content/uploads/2023/02/Billede1-e1675888967645.jpg
ORGANIZER;CN="Mors%C3%B8 Erhvervsr%C3%A5d":MAILTO:post@mer.dk
END:VEVENT
BEGIN:VEVENT
DTSTART;TZID=Europe/Copenhagen:20220426T163000
DTEND;TZID=Europe/Copenhagen:20220426T193000
DTSTAMP:20260421T045021
CREATED:20220228T094221Z
LAST-MODIFIED:20220303T140249Z
UID:10000028-1650990600-1651001400@mer.dk
SUMMARY:Generalforsamling 2022
DESCRIPTION:Morsø Erhvervsråd afholder generalforsamling\nSÆT X I KALENDEREN – Den 26. april åbner vi dørene til årets generalforsamling.\nDagsorden følger … \nKun for medlemmer – tilmelding nødvendigt. \n  \nMere info kommer senere \n  \nVi glæder os til at se dig 😀
URL:https://mer.dk/event/generalforsamling-2022/
LOCATION:Morsø Ungdomsgaard\, Spurvevej 2\, Nykøbing Mors\, 7900
CATEGORIES:Arrangementer
ATTACH;FMTTYPE=image/jpeg:https://mer.dk/wp-content/uploads/2022/02/Generalforsamling.jpg
ORGANIZER;CN="Mors%C3%B8 Erhvervsr%C3%A5d":MAILTO:post@mer.dk
END:VEVENT
END:VCALENDAR