BEGIN:VCALENDAR
VERSION:2.0
PRODID:-//Morsø Erhvervsråd - ECPv6.15.14//NONSGML v1.0//EN
CALSCALE:GREGORIAN
METHOD:PUBLISH
X-ORIGINAL-URL:https://mer.dk
X-WR-CALDESC:Begivenheder for Morsø Erhvervsråd
REFRESH-INTERVAL;VALUE=DURATION:PT1H
X-Robots-Tag:noindex
X-PUBLISHED-TTL:PT1H
BEGIN:VTIMEZONE
TZID:Europe/Copenhagen
BEGIN:DAYLIGHT
TZOFFSETFROM:+0100
TZOFFSETTO:+0200
TZNAME:CEST
DTSTART:20240331T010000
END:DAYLIGHT
BEGIN:STANDARD
TZOFFSETFROM:+0200
TZOFFSETTO:+0100
TZNAME:CET
DTSTART:20241027T010000
END:STANDARD
BEGIN:DAYLIGHT
TZOFFSETFROM:+0100
TZOFFSETTO:+0200
TZNAME:CEST
DTSTART:20250330T010000
END:DAYLIGHT
BEGIN:STANDARD
TZOFFSETFROM:+0200
TZOFFSETTO:+0100
TZNAME:CET
DTSTART:20251026T010000
END:STANDARD
BEGIN:DAYLIGHT
TZOFFSETFROM:+0100
TZOFFSETTO:+0200
TZNAME:CEST
DTSTART:20260329T010000
END:DAYLIGHT
BEGIN:STANDARD
TZOFFSETFROM:+0200
TZOFFSETTO:+0100
TZNAME:CET
DTSTART:20261025T010000
END:STANDARD
END:VTIMEZONE
BEGIN:VEVENT
DTSTART;TZID=Europe/Copenhagen:20250926T090000
DTEND;TZID=Europe/Copenhagen:20250926T100000
DTSTAMP:20260424T021713
CREATED:20250708T073738Z
LAST-MODIFIED:20250709T085557Z
UID:10000261-1758877200-1758880800@mer.dk
SUMMARY:Styr på salget - Online spørgetime
DESCRIPTION:Salg er afgørende for at få sin succes med sin forretning\, men det kan være svært og grænseoverskridende\, at skulle sælge sit produkt eller sin ydelse. \nPå dette workshopforløb får du virksomme og velafprøvede værktøjer\, der kan gøre salgsprocessen mere overskuelig og give dig struktur på den – kort sagt: du får styr på salget. Efter forløbet vil du være blevet fortrolig med at kontakte kunderne og sælge personligt. \nForløbet er for dig\, som har etableret virksomhed\, og gerne vil blive bedre til at sælge dit produkt eller din ydelse. For at deltage må dit CVR-nummer være maksimalt tre år gammelt. \nDu vil helt sikkert få mest ud af workshopforløbet\, hvis du kan se dig selv i følgende:   \nDu ønsker overblik og viden om\, hvordan du griber salget an – hvordan kontakter du potentielle kunder\, hvordan forhandler du med dem og hvordan lukker du handlen? Du får indsigt i konkrete metoder\, der kan hjælpe dig med at overkomme mentale barrierer og gøre salgsprocessen håndgribelig. På forløbet arbejder vi med: \n\nVærdiskabelsen i salget: Hvad er dine unikke selling points\, hvilken værdi tilfører du dine kunder\, og hvordan formidler du det overfor kunden?\nKold kanvas: Du lærer at blive bedre til at skabe møder med nye kunder og møder med en højere kvalitet.\nForhandling: Hvordan håndterer du indvendinger fra kunden\, og hvordan lukker du handlen.\nHvordan sikrer du\, at du afholder de mest optimale kundemøder\, hvor det er dig der tager styringen på en god og etisk måde\, og samtidig kommer hele vejen rundt om kunden.\nLuk aftalen: Du lærer at lukke aftalen på forskellige måder alt efter situationen.\nPræsentation af din pris: At stå ved sin pris kræver mod og forståelse for den psykologiske dimension bag prissætningen. Iværksætterne vil få konkrete eksempler fra virkeligheden på best practices og faldgruber\, så de står stærkt\, når prisen skal præsenteres for kunden.\n\nFør hver workshop skal der afsættes tid til selvstudie\, da vi giver mulighed for at du kan afprøve værktøjerne på dine egne (potentielle) kunder undervejs i forløbet. \nDin guide på vejen fra god idé til god forretning       \nCoachers er eksperter i salgstræning\, og har siden 2001 coachet\, trænet og rådgivet adskillige danske virksomheder i salg og salgspsykologi. Underviserne Preben\, Ann Louise og Martin har\, hver især\, mere end 20 års erfaring i arbejdet med iværksættere\, både som investorer\, konsulenter og undervisere. \n  \nTilmelding: https://ivdk.ehsys.dk/workshops/vis/ae8024b7-f7c0-45d1-ba1c-692749f6b3a1?tilmeld=1
URL:https://mer.dk/event/styr-paa-salget-online-spoergetime/
LOCATION:Online
CATEGORIES:Workshop
ATTACH;FMTTYPE=image/png:https://mer.dk/wp-content/uploads/2025/07/Styr-paa-salget-til-hjemmesiden.png
ORGANIZER;CN="Mors%C3%B8 Erhvervsr%C3%A5d":MAILTO:post@mer.dk
END:VEVENT
BEGIN:VEVENT
DTSTART;TZID=Europe/Copenhagen:20250916T090000
DTEND;TZID=Europe/Copenhagen:20250916T120000
DTSTAMP:20260424T021713
CREATED:20250708T073343Z
LAST-MODIFIED:20250709T085828Z
UID:10000259-1758013200-1758024000@mer.dk
SUMMARY:Styr på salget "Kold kanvas og gameplan for dine kundemøder"
DESCRIPTION:Salg er afgørende for at få sin succes med sin forretning\, men det kan være svært og grænseoverskridende\, at skulle sælge sit produkt eller sin ydelse. \nPå dette workshopforløb får du virksomme og velafprøvede værktøjer\, der kan gøre salgsprocessen mere overskuelig og give dig struktur på den – kort sagt: du får styr på salget. Efter forløbet vil du være blevet fortrolig med at kontakte kunderne og sælge personligt. \nForløbet er for dig\, som har etableret virksomhed\, og gerne vil blive bedre til at sælge dit produkt eller din ydelse. For at deltage i dette forløb må dit CVR-nummer være maksimalt tre år gammelt. \nDu vil helt sikkert få mest ud af workshopforløbet\, hvis du kan se dig selv i følgende:   \nDu ønsker overblik og viden om\, hvordan du griber salget an – hvordan kontakter du potentielle kunder\, hvordan forhandler du med dem og hvordan lukker du handlen? Du får indsigt i konkrete metoder\, der kan hjælpe dig med at overkomme mentale barrierer og gøre salgsprocessen håndgribelig. På forløbet arbejder vi med: \n\nVærdiskabelsen i salget: Hvad er dine unikke selling points\, hvilken værdi tilfører du dine kunder\, og hvordan formidler du det overfor kunden?\nKold kanvas: Du lærer at blive bedre til at skabe møder med nye kunder og møder med en højere kvalitet.\nForhandling: Hvordan håndterer du indvendinger fra kunden\, og hvordan lukker du handlen.\nHvordan sikrer du\, at du afholder de mest optimale kundemøder\, hvor det er dig der tager styringen på en god og etisk måde\, og samtidig kommer hele vejen rundt om kunden.\nLuk aftalen: Du lærer at lukke aftalen på forskellige måder alt efter situationen.\nPræsentation af din pris: At stå ved sin pris kræver mod og forståelse for den psykologiske dimension bag prissætningen. Iværksætterne vil få konkrete eksempler fra virkeligheden på best practices og faldgruber\, så de står stærkt\, når prisen skal præsenteres for kunden.\n\nFør hver workshop skal der afsættes tid til selvstudie\, da vi giver mulighed for at du kan afprøve værktøjerne på dine egne (potentielle) kunder undervejs i forløbet. \nDin guide på vejen fra god idé til god forretning       \nCoachers er eksperter i salgstræning\, og har siden 2001 coachet\, trænet og rådgivet adskillige danske virksomheder i salg og salgspsykologi. Underviserne Preben\, Ann Louise og Martin har\, hver især\, mere end 20 års erfaring i arbejdet med iværksættere\, både som investorer\, konsulenter og undervisere. \n  \nTilmelding: https://ivdk.ehsys.dk/workshops/vis/ae8024b7-f7c0-45d1-ba1c-692749f6b3a1?tilmeld=1
URL:https://mer.dk/event/styr-paa-salget-kold-kanvas-og-gameplan-for-dine-kundemoeder/
LOCATION:Online
CATEGORIES:Workshop
ATTACH;FMTTYPE=image/png:https://mer.dk/wp-content/uploads/2025/07/Styr-paa-salget-til-hjemmesiden.png
ORGANIZER;CN="Mors%C3%B8 Erhvervsr%C3%A5d":MAILTO:post@mer.dk
END:VEVENT
BEGIN:VEVENT
DTSTART;TZID=Europe/Copenhagen:20250522T083000
DTEND;TZID=Europe/Copenhagen:20250522T100000
DTSTAMP:20260424T021713
CREATED:20250506T080302Z
LAST-MODIFIED:20250519T113205Z
UID:10000245-1747902600-1747908000@mer.dk
SUMMARY:Webinar: Undgå katastrofen - få en plan B
DESCRIPTION:Når verden vælter – står din virksomhed fast? Lær\, hvordan du styrker du din virksomheds robusthed og kriseberedskab. Hvad gør du\, hvis din vigtigste leverandør går konkurs\, du mister din største kunde eller strømmen pludselig forsvinder? Kan din virksomhed modstå uventede hændelser – eller bliver det forretningskritisk? \n  \n\n\n\nVerden er i konstant forandring\nVerden omkring os er i hastig forandring – præget af stor usikkerhed\, nye toldsatser\, ustabile forsyningskæder og globale konflikter. Som ejerleder har du ansvaret – og kun lidt tid til at handle\, når noget går galt. Her snakker vi både det fulde ansvar – for drift\, medarbejdere\, kunder og økonomi. Et stærkt kriseberedskab kan være forskellen mellem at klare sig igennem – derfor er det afgørende at have en plan B. \nFor helt konkret risikerer I – uden en plan B – langsommere beslutningstagning\, ineffektiv kommunikation og fejl\, hvilket kan forlænge krisens varighed og forværre dens konsekvenser. \nPå dette webinar får du:\n\nIndblik i\, hvad kriseberedskab er – og hvorfor det er afgørende for overlevelse.\nKonkrete værktøjer til at spotte og beskytte dine største sårbarheder.\nInspiration fra en virksomhedsejer\, der har været igennem det i praksis.\nOverblik over\, hvordan du får hjælp til at lave en solid beredskabsplan.\n\nDu kan ikke planlægge krisen – men du kan planlægge din reaktion.\n\n\n\n\n\n\n\n\nMød dagens oplægsholder: Jan Stentoft\nJan Stentoft er professor i Supply Chain Management ved Syddansk Universitet og en af Danmarks førende eksperter i forsyningskæders robusthed. Han forsker blandt andet i kriseberedskab\, cybersikkerhed og forsyningskæders modstandsdygtighed – og har praktisk erfaring fra både LEGO og rådgivning i industrien. I dag leder han et stort forskningsprojekt støttet af Industriens Fond\, der fokuserer på\, hvordan mindre virksomheder bedst håndterer geopolitiske kriser og cybertrusler. \n\n\n\n\n\n\n\n\n\n\n\n\n\nWebinarets program\n08:30 – Velkommen og introduktion: Kender du dine største risici?\nv/ Troels Larsen\, forretningsudvikler \n08:50 – Gør din virksomhed klar til det uventede\nv/ Jan Stentoft\, ekspert og prækvalificeret rådgiver \n09:20 – Indlæg fra en virksomhedsejer: Hvordan gør du det i praksis? \n09:50 – Kriseberedskab gennem SMV:PRO\, spørgsmål og afrunding \n10:00 – Tak for i dag \n\n\n\n\n\n\n\n\n\n\n\nMålgruppe\nDette webinar henvender sig til virksomhedsejere eller medejere af en SMV-virksomhed. \nFor at deltage skal din virksomhed opfylde følgende kriterier:\n✔ CVR-nummer\n✔ 0-249 ansatte\n✔ Minimum ét afsluttet regnskabsår \nVi forbeholder os retten til at kontakte dig\, hvis din virksomhed ikke falder inden for målgruppen. Har du spørgsmål til din deltagelse\, er du altid velkommen til at kontakte os. \n\n\n\n  \n\nDeltagelse\nDu kan deltagen enten online fra din egen PC eller du er velkommen her hos Morsø Erhvervsråd\, hvor vi vil deltage i webinaret fra fælles skærm. Hvis du ønsker at deltage her i Holgersgade sammen med os\, tilmelder du dig blot nederst som du plejer med vores events. \n  \n\nTilmelding fra egen skærm her: Aktivitet: Webinar: Undgå katastrofen – få en plan B – Erhvervshus Hovedstaden
URL:https://mer.dk/event/webinar-undgaa-katastrofen-faa-en-plan-b/
LOCATION:Online
CATEGORIES:Webinar
ATTACH;FMTTYPE=image/webp:https://mer.dk/wp-content/uploads/2025/05/600x400-Jan-Stentoft.webp
END:VEVENT
END:VCALENDAR